BEGIN:VCALENDAR
PRODID:-//eluceo/ical//2.0/EN
VERSION:2.0
CALSCALE:GREGORIAN
BEGIN:VEVENT
UID:14ab17db854bf95270345e2d7cfc0fff
DTSTAMP:20260423T090654Z
SUMMARY:Winter-Stammtisch 2023
DESCRIPTION:Webbplats: https://www.verkehrshaus.ch/veranstalten/gastronomie
 /brasserie.html\nTalare: 
URL:https://rdcv.ch/sv/agenda/show/146867
DTSTART;TZID=Europe/Zurich:20230203T173000
DTEND;TZID=Europe/Zurich:20230203T230000
LOCATION:Brasserie im Verkehrshaus Luzern
CATEGORIES:Rotary
END:VEVENT
BEGIN:VTIMEZONE
TZID:Europe/Zurich
BEGIN:STANDARD
DTSTART:20230203T173000
TZNAME:CET
TZOFFSETTO:+0100
TZOFFSETFROM:+0100
END:STANDARD
END:VTIMEZONE
END:VCALENDAR
