BEGIN:VCALENDAR
PRODID:-//eluceo/ical//2.0/EN
VERSION:2.0
CALSCALE:GREGORIAN
BEGIN:VEVENT
UID:6e4babfe546dacee77634b15312bd35c
DTSTAMP:20260423T090113Z
SUMMARY:Rotary Challenge 2022
DESCRIPTION:Site internet: https://autohalle.ch/
URL:https://rdcv.ch/fr/agenda/show/135579
DTSTART;TZID=Europe/Zurich:20220708T080000
DTEND;TZID=Europe/Zurich:20220709T230000
LOCATION:Autohalle Andelfingen\, Schweiz
CATEGORIES:Rotary
END:VEVENT
BEGIN:VTIMEZONE
TZID:Europe/Zurich
BEGIN:DAYLIGHT
DTSTART:20220708T080000
TZNAME:CEST
TZOFFSETTO:+0200
TZOFFSETFROM:+0200
END:DAYLIGHT
END:VTIMEZONE
END:VCALENDAR
