BEGIN:VCALENDAR
PRODID:-//eluceo/ical//2.0/EN
VERSION:2.0
CALSCALE:GREGORIAN
BEGIN:VEVENT
UID:e06000d8e8209e42a6deea2cd7b18066
DTSTAMP:20260420T110327Z
SUMMARY:Winter-Stammtisch
DESCRIPTION:Website: https://www.madmotors.ch\nSpeaker(s): Martin Rudolf (G
 ründer & Inhaber) und Jonas Stahel (Inhaber)
URL:https://rdcv.ch/en/agenda/show/164701
DTSTART;TZID=Europe/Zurich:20240202T173000
DTEND;TZID=Europe/Zurich:20240202T230000
LOCATION:MadMotors GmbH
CATEGORIES:Rotary
END:VEVENT
BEGIN:VTIMEZONE
TZID:Europe/Zurich
BEGIN:STANDARD
DTSTART:20240202T173000
TZNAME:CET
TZOFFSETTO:+0100
TZOFFSETFROM:+0100
END:STANDARD
END:VTIMEZONE
END:VCALENDAR
